BEGIN:VCALENDAR
VERSION:2.0
PRODID:-//The Foursquare Church Singapore - ECPv6.15.17//NONSGML v1.0//EN
CALSCALE:GREGORIAN
METHOD:PUBLISH
X-ORIGINAL-URL:https://foursquare.sg
X-WR-CALDESC:Events for The Foursquare Church Singapore
REFRESH-INTERVAL;VALUE=DURATION:PT1H
X-Robots-Tag:noindex
X-PUBLISHED-TTL:PT1H
BEGIN:VTIMEZONE
TZID:UTC
BEGIN:STANDARD
TZOFFSETFROM:+0000
TZOFFSETTO:+0000
TZNAME:UTC
DTSTART:20240101T000000
END:STANDARD
END:VTIMEZONE
BEGIN:VEVENT
DTSTART;TZID=UTC:20250720T100000
DTEND;TZID=UTC:20250720T123000
DTSTAMP:20260419T175139
CREATED:20250617T085425Z
LAST-MODIFIED:20250702T121015Z
UID:1503-1753005600-1753014600@foursquare.sg
SUMMARY:First Service! Life Tree Church
DESCRIPTION:Join us for the first public gathering of Life Tree Church. \nLife Tree is a new multicultural congregation in Singapore. \n 
URL:https://foursquare.sg/event/first-service-life-tree-church/
LOCATION:Foursquare Hub\, 73 Ubi Road 1\, #10-63\, Oxley BizHub\, Singapore\, 408733\, Singapore
ATTACH;FMTTYPE=image/jpeg:https://foursquare.sg/wp-content/uploads/2025/06/20250615_LifeTree-4SQHub-scaled-e1750150127249.jpg
END:VEVENT
END:VCALENDAR