BEGIN:VCALENDAR
VERSION:2.0
PRODID:-//The Foursquare Church Singapore - ECPv6.15.17//NONSGML v1.0//EN
CALSCALE:GREGORIAN
METHOD:PUBLISH
X-ORIGINAL-URL:https://foursquare.sg
X-WR-CALDESC:Events for The Foursquare Church Singapore
REFRESH-INTERVAL;VALUE=DURATION:PT1H
X-Robots-Tag:noindex
X-PUBLISHED-TTL:PT1H
BEGIN:VTIMEZONE
TZID:UTC
BEGIN:STANDARD
TZOFFSETFROM:+0000
TZOFFSETTO:+0000
TZNAME:UTC
DTSTART:20240101T000000
END:STANDARD
END:VTIMEZONE
BEGIN:VEVENT
DTSTART;TZID=UTC:20250920T100000
DTEND;TZID=UTC:20250920T120000
DTSTAMP:20260419T230521
CREATED:20250617T085957Z
LAST-MODIFIED:20250702T120702Z
UID:1507-1758362400-1758369600@foursquare.sg
SUMMARY:⁠Life Tree Church Opening/Anniversary
DESCRIPTION:One year ago\, a group came together to pray for the creation and launch of Life Tree Church. \nThis special service will welcome the friends who were there\, standing together to birth this church in prayer! \n 
URL:https://foursquare.sg/event/%e2%81%a0life-tree-church-opening-anniversary/
LOCATION:Foursquare Hub\, 73 Ubi Road 1\, #10-63\, Oxley BizHub\, Singapore\, 408733\, Singapore
ATTACH;FMTTYPE=image/jpeg:https://foursquare.sg/wp-content/uploads/2025/06/20250615_LifeTree-4SQHub-scaled-e1750150127249.jpg
END:VEVENT
END:VCALENDAR